BEGIN:VCALENDAR
VERSION:2.0
PRODID:-//Freim TV - ECPv6.15.20//NONSGML v1.0//EN
CALSCALE:GREGORIAN
METHOD:PUBLISH
X-WR-CALNAME:Freim TV
X-ORIGINAL-URL:https://freim.tv
X-WR-CALDESC:Eventos para Freim TV
REFRESH-INTERVAL;VALUE=DURATION:PT1H
X-Robots-Tag:noindex
X-PUBLISHED-TTL:PT1H
BEGIN:VTIMEZONE
TZID:America/Mexico_City
BEGIN:STANDARD
TZOFFSETFROM:-0600
TZOFFSETTO:-0600
TZNAME:CST
DTSTART:20250101T000000
END:STANDARD
END:VTIMEZONE
BEGIN:VEVENT
DTSTART;TZID=America/Mexico_City:20260420T200000
DTEND;TZID=America/Mexico_City:20260421T230000
DTSTAMP:20260420T035204
CREATED:20250907T044445Z
LAST-MODIFIED:20250907T044544Z
UID:262181-1776715200-1776812400@freim.tv
SUMMARY:The Weeknd en Estadio GNP Seguros
DESCRIPTION:
URL:https://freim.tv/conciertos/the-weeknd-en-estadio-gnp-seguros/
LOCATION:Estadio GNP Seguros\, Viad. Río de la Piedad S/N\, Granjas México\, Iztacalco\, 08400 Ciudad de México\, CDMX 6.0 km\, México\, Mexico
CATEGORIES:Conciertos
ATTACH;FMTTYPE=image/jpeg:https://freim.tv/wp-content/uploads/2025/09/THE-WEEKND_Gran-Venta_-_1080x1080.jpg
END:VEVENT
END:VCALENDAR