BEGIN:VCALENDAR
VERSION:2.0
PRODID:-//Freim TV - ECPv6.15.20//NONSGML v1.0//EN
CALSCALE:GREGORIAN
METHOD:PUBLISH
X-ORIGINAL-URL:https://freim.tv
X-WR-CALDESC:Eventos para Freim TV
REFRESH-INTERVAL;VALUE=DURATION:PT1H
X-Robots-Tag:noindex
X-PUBLISHED-TTL:PT1H
BEGIN:VTIMEZONE
TZID:America/Mexico_City
BEGIN:STANDARD
TZOFFSETFROM:-0600
TZOFFSETTO:-0600
TZNAME:CST
DTSTART:20230101T000000
END:STANDARD
END:VTIMEZONE
BEGIN:VEVENT
DTSTART;TZID=America/Mexico_City:20240622T200000
DTEND;TZID=America/Mexico_City:20240622T230000
DTSTAMP:20260421T140345
CREATED:20231121T161133Z
LAST-MODIFIED:20231121T161359Z
UID:211057-1719086400-1719097200@freim.tv
SUMMARY:Camera Obscura en Foro Indie Rocks!
DESCRIPTION:
URL:https://freim.tv/conciertos/camera-obscura-en-foro-indie-rocks/
LOCATION:Foro Indie Rocks\, zacatecas 39\, Roma Norte\, Ciudad de México\, CDMX\, 06700
CATEGORIES:Conciertos
ATTACH;FMTTYPE=image/jpeg:https://freim.tv/wp-content/uploads/2023/11/IMG-20231114-WA0000.jpg
END:VEVENT
END:VCALENDAR