BEGIN:VCALENDAR
VERSION:2.0
PRODID:-//Freim TV - ECPv6.15.20//NONSGML v1.0//EN
CALSCALE:GREGORIAN
METHOD:PUBLISH
X-WR-CALNAME:Freim TV
X-ORIGINAL-URL:https://freim.tv
X-WR-CALDESC:Eventos para Freim TV
REFRESH-INTERVAL;VALUE=DURATION:PT1H
X-Robots-Tag:noindex
X-PUBLISHED-TTL:PT1H
BEGIN:VTIMEZONE
TZID:America/Mexico_City
BEGIN:STANDARD
TZOFFSETFROM:-0600
TZOFFSETTO:-0600
TZNAME:CST
DTSTART:20230101T000000
END:STANDARD
END:VTIMEZONE
BEGIN:VEVENT
DTSTART;TZID=America/Mexico_City:20240208T200000
DTEND;TZID=America/Mexico_City:20240208T223000
DTSTAMP:20260424T214722
CREATED:20230704T203658Z
LAST-MODIFIED:20230704T203752Z
UID:205157-1707422400-1707431400@freim.tv
SUMMARY:Daniela Spalla en Auditorio Nacional
DESCRIPTION:
URL:https://freim.tv/conciertos/daniela-spalla-en-auditorio-nacional/
LOCATION:Auditorio Nacional\, Av. Paseo de la Reforma 50\, Polanco V Secc\, Miguel Hidalgo\, Ciudad de México\, 11560\, México
CATEGORIES:Conciertos
ATTACH;FMTTYPE=image/jpeg:https://freim.tv/wp-content/uploads/2023/07/images-59.jpeg
END:VEVENT
END:VCALENDAR