BEGIN:VCALENDAR
VERSION:2.0
PRODID:-//Freim TV - ECPv6.15.20//NONSGML v1.0//EN
CALSCALE:GREGORIAN
METHOD:PUBLISH
X-ORIGINAL-URL:https://freim.tv
X-WR-CALDESC:Eventos para Freim TV
REFRESH-INTERVAL;VALUE=DURATION:PT1H
X-Robots-Tag:noindex
X-PUBLISHED-TTL:PT1H
BEGIN:VTIMEZONE
TZID:America/Mexico_City
BEGIN:DAYLIGHT
TZOFFSETFROM:-0600
TZOFFSETTO:-0500
TZNAME:CDT
DTSTART:20220403T080000
END:DAYLIGHT
BEGIN:STANDARD
TZOFFSETFROM:-0500
TZOFFSETTO:-0600
TZNAME:CST
DTSTART:20221030T070000
END:STANDARD
END:VTIMEZONE
BEGIN:VEVENT
DTSTART;TZID=America/Mexico_City:20230218T213000
DTEND;TZID=America/Mexico_City:20230218T233000
DTSTAMP:20260420T204021
CREATED:20230112T194613Z
LAST-MODIFIED:20230112T194749Z
UID:185203-1676755800-1676763000@freim.tv
SUMMARY:Mötley Crüe y Def Leppard en el Foro Sol
DESCRIPTION:
URL:https://freim.tv/conciertos/motley-crue-y-def-leppard-en-el-foro-sol/
LOCATION:Foro Sol\, Av\, Viad. Río de la Piedad S/N\, Granjas México\, Iztacalco\,\, Ciudad de México\, CDMX\, 08400\, México
CATEGORIES:Conciertos
ATTACH;FMTTYPE=image/jpeg:https://freim.tv/wp-content/uploads/2023/01/IMG-20230112-WA0009.jpg
END:VEVENT
END:VCALENDAR