BEGIN:VCALENDAR
VERSION:2.0
PRODID:-//Freim TV - ECPv6.15.20//NONSGML v1.0//EN
CALSCALE:GREGORIAN
METHOD:PUBLISH
X-ORIGINAL-URL:https://freim.tv
X-WR-CALDESC:Eventos para Freim TV
REFRESH-INTERVAL;VALUE=DURATION:PT1H
X-Robots-Tag:noindex
X-PUBLISHED-TTL:PT1H
BEGIN:VTIMEZONE
TZID:America/Mexico_City
BEGIN:DAYLIGHT
TZOFFSETFROM:-0600
TZOFFSETTO:-0500
TZNAME:CDT
DTSTART:20220403T080000
END:DAYLIGHT
BEGIN:STANDARD
TZOFFSETFROM:-0500
TZOFFSETTO:-0600
TZNAME:CST
DTSTART:20221030T070000
END:STANDARD
END:VTIMEZONE
BEGIN:VEVENT
DTSTART;TZID=America/Mexico_City:20231020T200000
DTEND;TZID=America/Mexico_City:20231020T220000
DTSTAMP:20260422T005519
CREATED:20230705T185843Z
LAST-MODIFIED:20230705T190317Z
UID:205215-1697832000-1697839200@freim.tv
SUMMARY:KNTXT en Hipódromo de las Américas
DESCRIPTION:
URL:https://freim.tv/conciertos/kntxt-en-hipodromo-de-las-americas/
LOCATION:Hipódromo de las Américas\, Av. Industria Militar S/N\, Lomas de Sotelo\, Residencial Militar\, Miguel Hidalgo\, 11600 Ciudad de México\, CDMX\, México\, Mexico
CATEGORIES:Conciertos
ATTACH;FMTTYPE=image/jpeg:https://freim.tv/wp-content/uploads/2023/07/IMG-20230705-WA0013.jpg
END:VEVENT
END:VCALENDAR