BEGIN:VCALENDAR
VERSION:2.0
PRODID:-//Freim TV - ECPv6.15.20//NONSGML v1.0//EN
CALSCALE:GREGORIAN
METHOD:PUBLISH
X-WR-CALNAME:Freim TV
X-ORIGINAL-URL:https://freim.tv
X-WR-CALDESC:Eventos para Freim TV
REFRESH-INTERVAL;VALUE=DURATION:PT1H
X-Robots-Tag:noindex
X-PUBLISHED-TTL:PT1H
BEGIN:VTIMEZONE
TZID:America/Mexico_City
BEGIN:DAYLIGHT
TZOFFSETFROM:-0600
TZOFFSETTO:-0500
TZNAME:CDT
DTSTART:20220403T080000
END:DAYLIGHT
BEGIN:STANDARD
TZOFFSETFROM:-0500
TZOFFSETTO:-0600
TZNAME:CST
DTSTART:20221030T070000
END:STANDARD
END:VTIMEZONE
BEGIN:VEVENT
DTSTART;TZID=America/Mexico_City:20231009T200000
DTEND;TZID=America/Mexico_City:20231009T230000
DTSTAMP:20260421T031034
CREATED:20230322T215328Z
LAST-MODIFIED:20230322T215417Z
UID:188122-1696881600-1696892400@freim.tv
SUMMARY:Declan Mckenna en Pabellón Oeste
DESCRIPTION:
URL:https://freim.tv/conciertos/declan-mckenna-en-pabellon-oeste/
LOCATION:Pabellón Oeste\, Añil 467\, Granjas México\, Iztacalco\, 08400 Ciudad de México\, CDMX\, México\, México
CATEGORIES:Conciertos
ATTACH;FMTTYPE=image/jpeg:https://freim.tv/wp-content/uploads/2023/03/IMG-20230322-WA0004.jpg
END:VEVENT
BEGIN:VEVENT
DTSTART;TZID=America/Mexico_City:20231012T200000
DTEND;TZID=America/Mexico_City:20231012T223000
DTSTAMP:20260421T031034
CREATED:20230823T074838Z
LAST-MODIFIED:20230823T074949Z
UID:207307-1697140800-1697149800@freim.tv
SUMMARY:Simple Plan en Pabellón Oeste
DESCRIPTION:
URL:https://freim.tv/conciertos/simple-plan-en-pabellon-oeste/
LOCATION:Pabellón Oeste\, Añil 467\, Granjas México\, Iztacalco\, 08400 Ciudad de México\, CDMX\, México\, México
CATEGORIES:Conciertos
ATTACH;FMTTYPE=image/jpeg:https://freim.tv/wp-content/uploads/2023/08/images-33-10.jpeg
END:VEVENT
BEGIN:VEVENT
DTSTART;TZID=America/Mexico_City:20231018T200000
DTEND;TZID=America/Mexico_City:20231018T223000
DTSTAMP:20260421T031034
CREATED:20230726T003055Z
LAST-MODIFIED:20230726T003055Z
UID:206052-1697659200-1697668200@freim.tv
SUMMARY:The Drums en Pabellón Oeste
DESCRIPTION:
URL:https://freim.tv/conciertos/the-drums-en-pabellon-oeste/
LOCATION:Pabellón Oeste\, Añil 467\, Granjas México\, Iztacalco\, 08400 Ciudad de México\, CDMX\, México\, México
CATEGORIES:Conciertos
ATTACH;FMTTYPE=image/jpeg:https://freim.tv/wp-content/uploads/2023/07/F10ObV7WYAAwX5Z.jpeg
END:VEVENT
END:VCALENDAR