BEGIN:VCALENDAR
VERSION:2.0
PRODID:-//Freim TV - ECPv6.15.20//NONSGML v1.0//EN
CALSCALE:GREGORIAN
METHOD:PUBLISH
X-WR-CALNAME:Freim TV
X-ORIGINAL-URL:https://freim.tv
X-WR-CALDESC:Eventos para Freim TV
REFRESH-INTERVAL;VALUE=DURATION:PT1H
X-Robots-Tag:noindex
X-PUBLISHED-TTL:PT1H
BEGIN:VTIMEZONE
TZID:America/Mexico_City
BEGIN:DAYLIGHT
TZOFFSETFROM:-0600
TZOFFSETTO:-0500
TZNAME:CDT
DTSTART:20220403T080000
END:DAYLIGHT
BEGIN:STANDARD
TZOFFSETFROM:-0500
TZOFFSETTO:-0600
TZNAME:CST
DTSTART:20221030T070000
END:STANDARD
END:VTIMEZONE
BEGIN:VEVENT
DTSTART;TZID=America/Mexico_City:20231028T200000
DTEND;TZID=America/Mexico_City:20231028T230000
DTSTAMP:20260420T032723
CREATED:20230322T233531Z
LAST-MODIFIED:20230322T233658Z
UID:188217-1698523200-1698534000@freim.tv
SUMMARY:The Warning en Pepsi Center WTC
DESCRIPTION:
URL:https://freim.tv/conciertos/the-warning-en-pepsi-center-wtc/
LOCATION:Pepsi Center WTC\, Arizona\, Nápoles\, Benito Juárez\, Ciudad de México\, DF\, 03810\, México
CATEGORIES:Conciertos
ATTACH;FMTTYPE=image/jpeg:https://freim.tv/wp-content/uploads/2023/03/agenda-conciertos-festivales-para-2023-mexico-fechas-the-warning.jpeg
END:VEVENT
END:VCALENDAR